View In:
ArcGIS JavaScript
ArcGIS Online Map Viewer
ArcGIS Earth
Service Description: Imagery/County2010
Name: Imagery/County2010
Description:
Single Fused Map Cache: false
Extent:
XMin: 93690.072
YMin: 99664.67200000002
XMax: 258572.072
YMax: 263556.672
Spatial Reference: 103449
(8134)
LatestVCSWkid(0)
Initial Extent:
XMin: 93690.072
YMin: 99664.67200000002
XMax: 258572.072
YMax: 263556.672
Spatial Reference: 103449
(8134)
LatestVCSWkid(0)
Full Extent:
XMin: 93690.072
YMin: 99664.67200000002
XMax: 258572.072
YMax: 263556.672
Spatial Reference: 103449
(8134)
LatestVCSWkid(0)
Pixel Size X: 1.0
Pixel Size Y: 1.0
Band Count: 3
Pixel Type: U8
RasterFunction Infos: {"rasterFunctionInfos": [{
"name": "None",
"description": "",
"help": ""
}]}
Mensuration Capabilities: Basic
Inspection Capabilities:
Has Histograms: true
Has Colormap: false
Has Multi Dimensions : false
Rendering Rule:
Min Scale: 0
Max Scale: 0
Copyright Text:
Service Data Type: esriImageServiceDataTypeRGB
Min Values: 8, 23, 48
Max Values: 255, 255, 255
Mean Values: 124.54122847127, 123.36747447036, 122.70446578266
Standard Deviation Values: 53.696019171645, 52.348699859043, 51.272831107199
Object ID Field:
Fields:
None
Default Mosaic Method: Center
Allowed Mosaic Methods:
SortField:
SortValue: null
Mosaic Operator: First
Default Compression Quality: 75
Default Resampling Method: Bilinear
Max Record Count: null
Max Image Height: 4100
Max Image Width: 15000
Max Download Image Count: null
Max Mosaic Image Count: null
Allow Raster Function: true
Allow Copy: true
Allow Analysis: true
Allow Compute TiePoints: false
Supports Statistics: false
Supports Advanced Queries: false
Use StandardizedQueries: true
Raster Type Infos:
Name: Raster Dataset
Description: Supports all ArcGIS Raster Datasets
Help:
Has Raster Attribute Table: false
Edit Fields Info: null
Ownership Based AccessControl For Rasters: null
Child Resources:
Info
Histograms
Statistics
Key Properties
Legend
Raster Function Infos
Supported Operations:
Export Image
Identify
Measure
Compute Histograms
Compute Statistics Histograms
Get Samples
Compute Class Statistics
Query Boundary
Compute Pixel Location
Compute Angles
Validate
Project