{
 "currentVersion": 11.5,
 "serviceDescription": "Imagery/County2010",
 "serviceItemId": "936ebc8dfd5d4d6489159d4a26aa84ba",
 "name": "Imagery/County2010",
 "description": "",
 "extent": {
  "xmin": 93690.072,
  "ymin": 99664.67200000002,
  "xmax": 258572.072,
  "ymax": 263556.672,
  "spatialReference": {
   "wkid": 103449,
   "latestWkid": 8134
  }
 },
 "initialExtent": {
  "xmin": 93690.072,
  "ymin": 99664.67200000002,
  "xmax": 258572.072,
  "ymax": 263556.672,
  "spatialReference": {
   "wkid": 103449,
   "latestWkid": 8134
  }
 },
 "fullExtent": {
  "xmin": 93690.072,
  "ymin": 99664.67200000002,
  "xmax": 258572.072,
  "ymax": 263556.672,
  "spatialReference": {
   "wkid": 103449,
   "latestWkid": 8134
  }
 },
 "sortableFields": "",
 "bandCount": 3,
 "pixelType": "U8",
 "minValues": [
  8,
  23,
  48
 ],
 "maxValues": [
  255,
  255,
  255
 ],
 "meanValues": [
  124.54122847127,
  123.36747447036,
  122.70446578266
 ],
 "stdvValues": [
  53.696019171645,
  52.348699859043,
  51.272831107199
 ],
 "serviceProperties": "Center<\/MosaicMethod>First<\/MosaicOperator>true<\/SortAscending><\/LockImageID><\/TileOrderField>0<\/TileOrderBase>0.000000<\/AvgImageSpacingX>0.000000<\/AvgImageSpacingY>0.0<\/ViewPointX>0.0<\/ViewPointY>0.0<\/ViewPointDefShiftX>0.0<\/ViewPointDefShiftY>None<\/CompressionMethod>75<\/CompressionQuality>0.010000<\/CompressionTolerance>Bilinear<\/SamplingMethod><\/ImageServiceProperties><\/ImageServer>",
 "allowedFields": "",
 "hasMultidimensions": false,
 "pixelSizeX": 1,
 "pixelSizeY": 1,
 "meanPixelSize": 0.30480060960121924,
 "datasetFormat": "MrSID",
 "uncompressedSize": 81068522232,
 "blockWidth": 1024,
 "blockHeight": 128,
 "compressionType": "Wavelet (MG3)",
 "bandNames": [
  "Band_1",
  "Band_2",
  "Band_3"
 ],
 "allowCopy": true,
 "allowAnalysis": true,
 "itemAccess": false,
 "inspectionCapabilities": "",
 "minPixelSize": 0,
 "maxPixelSize": 0,
 "copyrightText": "",
 "serviceDataType": "esriImageServiceDataTypeRGB",
 "serviceSourceType": "esriImageServiceSourceTypeDataset",
 "objectIdField": "",
 "fields": [],
 "capabilities": "Image,Metadata,Mensuration",
 "defaultMosaicMethod": "Center",
 "allowedMosaicMethods": "",
 "sortField": "",
 "sortValue": null,
 "sortAscending": true,
 "mosaicOperator": "First",
 "defaultCompressionQuality": 75,
 "defaultResamplingMethod": "Bilinear",
 "maxImageHeight": 4100,
 "maxImageWidth": 15000,
 "allowRasterFunction": true,
 "rasterFunctionInfos": [
  {
   "name": "None",
   "description": "",
   "help": ""
  }
 ],
 "rasterTypeInfos": [
  {
   "name": "Raster Dataset",
   "description": "Supports all ArcGIS Raster Datasets",
   "help": ""
  }
 ],
 "mensurationCapabilities": "Basic",
 "hasHistograms": true,
 "hasColormap": false,
 "hasRasterAttributeTable": false,
 "minScale": 0,
 "maxScale": 0,
 "exportTilesAllowed": false,
 "supportsStatistics": false,
 "supportsAdvancedQueries": false,
 "editFieldsInfo": null,
 "ownershipBasedAccessControlForRasters": null,
 "allowComputeTiePoints": false,
 "useStandardizedQueries": true,
 "advancedQueryCapabilities": {
  "useStandardizedQueries": true,
  "supportsStatistics": false,
  "supportsOrderBy": false,
  "supportsDistinct": false,
  "supportsPagination": false
 },
 "spatialReference": {
  "wkid": 103449,
  "latestWkid": 8134
 }
}
