<metadata xml:lang="en"><Esri><CreaDate>20251007</CreaDate><CreaTime>10415300</CreaTime><ArcGISFormat>1.0</ArcGISFormat><ArcGISstyle>FGDC CSDGM Metadata</ArcGISstyle><SyncOnce>FALSE</SyncOnce><DataProperties><itemProps><itemName Sync="TRUE">210736NE.sid</itemName><itemLocation><linkage Sync="TRUE">file://U:\ORTHO\WROC_Portage_Co_ortho_2025\Finals\ThruPS\MrSIDs\210736NE.sid</linkage><protocol Sync="TRUE">Local Area Network</protocol></itemLocation><imsContentType Sync="TRUE" export="False">002</imsContentType><nativeExtBox><westBL Sync="TRUE">154430.574000</westBL><eastBL Sync="TRUE">157226.824000</eastBL><southBL Sync="TRUE">104341.825000</southBL><northBL Sync="TRUE">107202.575000</northBL><exTypeCode Sync="TRUE">1</exTypeCode></nativeExtBox></itemProps><coordRef><type Sync="TRUE">Projected</type><geogcsn Sync="TRUE">GCS_NAD83_2011</geogcsn><csUnits Sync="TRUE">Linear Unit: Foot_US (0.304801)</csUnits><projcsn Sync="TRUE">NAD_1983_2011_WISCRS_Portage_Feet</projcsn><peXml Sync="TRUE">&lt;ProjectedCoordinateSystem xsi:type='typens:ProjectedCoordinateSystem' xmlns:xsi='http://www.w3.org/2001/XMLSchema-instance' xmlns:xs='http://www.w3.org/2001/XMLSchema' xmlns:typens='http://www.esri.com/schemas/ArcGIS/10.8'&gt;&lt;WKT&gt;PROJCS[&amp;quot;NAD_1983_2011_WISCRS_Portage_Feet&amp;quot;,GEOGCS[&amp;quot;GCS_NAD83_2011&amp;quot;,DATUM[&amp;quot;D_NAD83_National_Spatial_Reference_System_2011&amp;quot;,SPHEROID[&amp;quot;GRS_1980&amp;quot;,6378137.0,298.257222101]],PRIMEM[&amp;quot;Greenwich&amp;quot;,0.0],UNIT[&amp;quot;Degree&amp;quot;,0.0174532925199433]],PROJECTION[&amp;quot;Lambert_Conformal_Conic&amp;quot;],PARAMETER[&amp;quot;false_easting&amp;quot;,185000.0],PARAMETER[&amp;quot;false_northing&amp;quot;,164114.46],PARAMETER[&amp;quot;central_meridian&amp;quot;,-89.5],PARAMETER[&amp;quot;standard_parallel_1&amp;quot;,44.41682397527777],PARAMETER[&amp;quot;scale_factor&amp;quot;,1.000039936],PARAMETER[&amp;quot;latitude_of_origin&amp;quot;,44.41682397527777],UNIT[&amp;quot;Foot_US&amp;quot;,0.3048006096012192]]&lt;/WKT&gt;&lt;XOrigin&gt;-119590600&lt;/XOrigin&gt;&lt;YOrigin&gt;-98219600&lt;/YOrigin&gt;&lt;XYScale&gt;37600309.473469511&lt;/XYScale&gt;&lt;ZOrigin&gt;-100000&lt;/ZOrigin&gt;&lt;ZScale&gt;10000&lt;/ZScale&gt;&lt;MOrigin&gt;-100000&lt;/MOrigin&gt;&lt;MScale&gt;10000&lt;/MScale&gt;&lt;XYTolerance&gt;0.0032808333333333331&lt;/XYTolerance&gt;&lt;ZTolerance&gt;0.001&lt;/ZTolerance&gt;&lt;MTolerance&gt;0.001&lt;/MTolerance&gt;&lt;HighPrecision&gt;true&lt;/HighPrecision&gt;&lt;/ProjectedCoordinateSystem&gt;</peXml></coordRef><RasterProperties><General><PixelDepth Sync="TRUE">8</PixelDepth><HasColormap Sync="TRUE">FALSE</HasColormap><CompressionType Sync="TRUE">Wavelet (MG4)</CompressionType><NumBands Sync="TRUE">5</NumBands><Format Sync="TRUE">MrSID</Format><HasPyramids Sync="TRUE">TRUE</HasPyramids><SourceType Sync="TRUE">continuous</SourceType><PixelType Sync="TRUE">unsigned integer</PixelType><NoDataValue Sync="TRUE"></NoDataValue></General></RasterProperties></DataProperties><SyncDate>20251013</SyncDate><SyncTime>15242100</SyncTime><ModDate>20251013</ModDate><ModTime>15242100</ModTime><scaleRange><minScale>150000000</minScale><maxScale>5000</maxScale></scaleRange><ArcGISProfile>FGDC</ArcGISProfile></Esri><dataIdInfo><envirDesc Sync="TRUE"> Version 6.2 (Build 9200) ; Esri ArcGIS 10.8.1.14362</envirDesc><dataLang><languageCode value="eng" Sync="TRUE"/><countryCode value="USA" Sync="TRUE"/></dataLang><idCitation xmlns=""><resTitle Sync="TRUE">210736NE.sid</resTitle><presForm xmlns=""><PresFormCd value="005" Sync="TRUE"/></presForm><date><createDate>2025-04-16T00:00:00</createDate><pubDate>2025-10-07T00:00:00</pubDate></date><citRespParty xmlns=""><rpOrgName>Ayres Associates</rpOrgName><role><RoleCd value="006"/></role><rpCntInfo xmlns=""><cntAddress addressType="both"><delPoint>5201 E. Terrace Dr., Suite 200</delPoint><city>Madison</city><adminArea>Wisconsin</adminArea><postCode>53718</postCode><country>US</country></cntAddress><cntPhone><voiceNum tddtty="">(608) 443-1200</voiceNum></cntPhone></rpCntInfo></citRespParty></idCitation><spatRpType><SpatRepTypCd value="002" Sync="TRUE"/></spatRpType><dataExt xmlns=""><geoEle xmlns=""><GeoBndBox esriExtentType="search"><exTypeCode Sync="TRUE">1</exTypeCode><westBL Sync="TRUE">-89.616677</westBL><eastBL Sync="TRUE">-89.605990</eastBL><northBL Sync="TRUE">44.260671</northBL><southBL Sync="TRUE">44.252814</southBL></GeoBndBox></geoEle></dataExt><idPurp>This project established digital, 4-band orthoimagery for Portage County, Wisconsin as part of the Wisconsin Regional Orthoimagery Consortium (WROC).</idPurp><idAbs>Ayres Associates provided Portage County, Wisconsin, with digital, 4-band orthoimagery services in 2025 as part of WROC. The aerial imagery was collected on April 16th, 26th, and May 4th using an UltraCam Eagle M3 sensor at 7.25 cm GSD mounted in a fixed-wing aircraft. Aerial imagery was collected to support 0.25 foot ground sample distance (GSD) orthoimagery at 1"=50' map scale. The 3-inch pixel orthoimagery was produced to meet or exceed 0.66 foot RMSEH according to ASPRS Positional Accuracy Standards for Digital Geospatial Data 2024. Resultant orthoimagery was rectified to a DEM created from existing lidar. Orthoimagery was delivered in GeoTiff and MrSID tiles and a project-wide MrSID mosaic. The orthoimagery was delivered according to a PLSS quarter section tile schematic. The project area covers approximately 823 square miles. Supplemental Information: The Wisconsin Regional Orthoimagery Consortium (WROC) is a multi-entity group of county members and partners led by regional planning commissions (RPCs) and WROC representatives from Ayres Associates. The goal of the consortium is to build and sustain a multi-participant program to acquire digital orthoimagery and elevation data throughout Wisconsin. Orthoimagery was collected for Portage County in 2025 to provide consistent deliverable products and accuracy standards for each of the participating entities.</idAbs><searchKeys><keyword>digital</keyword><keyword>4-band</keyword><keyword>orthoimagery</keyword><keyword>3-inch</keyword></searchKeys><resConst><Consts xmlns=""><useLimit>Not to be used for purposes other than those strictly outlined in the 2025 WROC program.</useLimit></Consts></resConst><themeKeys xmlns=""><keyword>Wisconsin Regional Orthoimagery Consortium (WROC)</keyword></themeKeys><placeKeys xmlns=""><keyword>Portage County, Wisconsin</keyword></placeKeys><dataChar><CharSetCd value="004"/></dataChar><idStatus><ProgCd value="001"/></idStatus><idPoC xmlns=""><rpIndName>Jeff Hartman</rpIndName><rpOrgName>Portage County</rpOrgName><rpPosName>GIS/LIS Manager</rpPosName><role><RoleCd value="007"/></role><rpCntInfo xmlns=""><cntAddress addressType=""><adminArea>Wisconsin</adminArea><eMailAdd>hartmanj@co.portage.wi.us</eMailAdd><country>US</country><delPoint>1462 Strongs Ave</delPoint><city>Stevens Point</city><postCode>54481</postCode></cntAddress><cntPhone><voiceNum tddtty="">(715) 346-1334</voiceNum></cntPhone></rpCntInfo></idPoC><resMaint xmlns=""><maintFreq><MaintFreqCd value="011"/></maintFreq></resMaint><tpCat><TopicCatCd value="010"/></tpCat></dataIdInfo><mdLang><languageCode value="eng" Sync="TRUE"/><countryCode value="USA" Sync="TRUE"/></mdLang><mdChar><CharSetCd value="004" Sync="TRUE"/></mdChar><distInfo xmlns=""><distFormat xmlns=""><formatName Sync="TRUE">Raster Dataset</formatName></distFormat></distInfo><mdHrLv><ScopeCd value="005" Sync="TRUE"/></mdHrLv><mdHrLvName Sync="TRUE">dataset</mdHrLvName><refSysInfo><RefSystem><refSysID><identCode code="0" Sync="TRUE"/><idCodeSpace Sync="TRUE">EPSG</idCodeSpace><idVersion Sync="TRUE">8.8(10.4.0)</idVersion></refSysID></RefSystem></refSysInfo><spatRepInfo><Georect xmlns=""><cellGeo><CellGeoCd Sync="TRUE" value="002"/></cellGeo><numDims Sync="TRUE">2</numDims><tranParaAv Sync="TRUE">1</tranParaAv><chkPtAv Sync="TRUE">0</chkPtAv><cornerPts xmlns=""><pos Sync="TRUE">154430.574000 104341.825000</pos></cornerPts><cornerPts xmlns=""><pos Sync="TRUE">154430.574000 107202.575000</pos></cornerPts><cornerPts xmlns=""><pos Sync="TRUE">157226.824000 107202.575000</pos></cornerPts><cornerPts xmlns=""><pos Sync="TRUE">157226.824000 104341.825000</pos></cornerPts><centerPt xmlns=""><pos Sync="TRUE">155828.699000 105772.200000</pos></centerPt><axisDimension type="002" xmlns=""><dimSize Sync="TRUE">11185</dimSize><dimResol><value Sync="TRUE" uom="ftUS">0.250000</value></dimResol></axisDimension><axisDimension type="001" xmlns=""><dimSize Sync="TRUE">11443</dimSize><dimResol><value Sync="TRUE" uom="ftUS">0.250000</value></dimResol></axisDimension><ptInPixel><PixOrientCd Sync="TRUE" value="001"/></ptInPixel></Georect></spatRepInfo><contInfo><ImgDesc xmlns=""><contentTyp><ContentTypCd Sync="TRUE" value="001"/></contentTyp><covDim><Band xmlns=""><dimDescrp Sync="TRUE">Band_1</dimDescrp><bitsPerVal Sync="TRUE">8</bitsPerVal><valUnit><UOM type="length" gmlID=""/></valUnit><maxVal Sync="TRUE">236.000000</maxVal><minVal Sync="TRUE">0.000000</minVal></Band><Band xmlns=""><dimDescrp Sync="TRUE">Band_2</dimDescrp><bitsPerVal Sync="TRUE">8</bitsPerVal><valUnit><UOM type="length" gmlID=""/></valUnit><maxVal Sync="TRUE">241.000000</maxVal><minVal Sync="TRUE">0.000000</minVal></Band><Band xmlns=""><dimDescrp Sync="TRUE">Band_3</dimDescrp><bitsPerVal Sync="TRUE">8</bitsPerVal><valUnit><UOM type="length" gmlID=""/></valUnit><maxVal Sync="TRUE">243.000000</maxVal><minVal Sync="TRUE">0.000000</minVal></Band><Band xmlns=""><dimDescrp Sync="TRUE">Band_4</dimDescrp><bitsPerVal Sync="TRUE">8</bitsPerVal><valUnit><UOM type="length" gmlID=""/></valUnit><maxVal Sync="TRUE">255.000000</maxVal><minVal Sync="TRUE">0.000000</minVal></Band><Band><dimDescrp Sync="TRUE">Band_5</dimDescrp><maxVal Sync="TRUE">255.000000</maxVal><minVal Sync="TRUE">255.000000</minVal><bitsPerVal Sync="TRUE">8</bitsPerVal><valUnit><UOM type="length"></UOM></valUnit></Band></covDim><trianInd>False</trianInd><radCalDatAv>False</radCalDatAv><camCalInAv>False</camCalInAv><filmDistInAv>False</filmDistInAv><lensDistInAv>False</lensDistInAv></ImgDesc></contInfo><mdDateSt Sync="FALSE">20251007</mdDateSt><mdContact xmlns=""><rpOrgName>Ayres Associates</rpOrgName><role><RoleCd value="006"/></role><rpCntInfo xmlns=""><cntAddress addressType="both"><delPoint>5201 E. Terrace Dr., Suite 200</delPoint><city>Madison</city><adminArea>Wisconsin</adminArea><postCode>53718</postCode><country>US</country></cntAddress><cntPhone><voiceNum tddtty="">(608) 443-1200</voiceNum></cntPhone></rpCntInfo><displayName>Ayres Associates</displayName></mdContact><mdMaint xmlns=""><maintFreq><MaintFreqCd value="011"/></maintFreq></mdMaint><dqInfo xmlns=""><report type="DQConcConsis" dimension="vertical" xmlns=""><measDesc>Images were color corrected to match adjacent flight lines. The resulting imagery was tonally adjusted in terms of contrast and color to form a radiometrically consistent orthophoto mosaic.</measDesc></report><report type="DQCompOm" dimension="" xmlns=""><measDesc>These data cover the entirety of the 2025 WROC Portage County program.</measDesc></report><dataLineage><prcStep xmlns=""><stepDesc>Ground control consisted of photo identifiable surveyed points. The imagery was collected using an UltraCam Eagle M3 sensor at 7.25 cm GSD. Image quality was verified during the post flight review phase. Factors considered during this review included, but were not limited to, the presence of cloud cover, contrails, light conditions and sun flare. A rigorous Aerotriangulation process was performed and supplemented by the photo ID survey points. The triangulated strips were rectified to a DEM created from existing lidar. The imagery was mosaicked using manual seamlines generation and tone/color balanced to a project-wide consistency. PLSS section RGBN tiles were extracted from the mosaic and each individual tile was reviewed for artifacts and anomalies and adjusted as part of quality control procedures. The images were reviewed for rectification problems such as bridge displacements and seamline issues caused by the underlying digital elevation model. When necessary, local corrections to the imagery were performed to minimize such effects.</stepDesc><stepDateTm>2025-05-16T00:00:00</stepDateTm></prcStep></dataLineage></dqInfo></metadata>
